{
 "currentVersion": 10.91,
 "serviceDescription": "10ft Contours Tile Cache\n04 23 2020",
 "mapName": "Layers",
 "description": "",
 "copyrightText": "LAU",
 "supportsDynamicLayers": true,
 "layers": [
  {
   "id": 0,
   "name": "Acme_10ftContours",
   "parentLayerId": -1,
   "defaultVisibility": true,
   "subLayerIds": null,
   "minScale": 24000,
   "maxScale": 0,
   "type": "Feature Layer",
   "geometryType": "esriGeometryPolyline"
  },
  {
   "id": 1,
   "name": "Blair_10ftContours",
   "parentLayerId": -1,
   "defaultVisibility": true,
   "subLayerIds": null,
   "minScale": 24000,
   "maxScale": 0,
   "type": "Feature Layer",
   "geometryType": "esriGeometryPolyline"
  },
  {
   "id": 2,
   "name": "EastBay_10ftContours",
   "parentLayerId": -1,
   "defaultVisibility": true,
   "subLayerIds": null,
   "minScale": 24000,
   "maxScale": 0,
   "type": "Feature Layer",
   "geometryType": "esriGeometryPolyline"
  },
  {
   "id": 3,
   "name": "FifeLake_10ftContours",
   "parentLayerId": -1,
   "defaultVisibility": true,
   "subLayerIds": null,
   "minScale": 24000,
   "maxScale": 0,
   "type": "Feature Layer",
   "geometryType": "esriGeometryPolyline"
  },
  {
   "id": 4,
   "name": "Garfield_10ftContours",
   "parentLayerId": -1,
   "defaultVisibility": true,
   "subLayerIds": null,
   "minScale": 24000,
   "maxScale": 0,
   "type": "Feature Layer",
   "geometryType": "esriGeometryPolyline"
  },
  {
   "id": 5,
   "name": "Grant_10ftContours",
   "parentLayerId": -1,
   "defaultVisibility": true,
   "subLayerIds": null,
   "minScale": 24000,
   "maxScale": 0,
   "type": "Feature Layer",
   "geometryType": "esriGeometryPolyline"
  },
  {
   "id": 6,
   "name": "GreenLake_10ftContours",
   "parentLayerId": -1,
   "defaultVisibility": true,
   "subLayerIds": null,
   "minScale": 24000,
   "maxScale": 0,
   "type": "Feature Layer",
   "geometryType": "esriGeometryPolyline"
  },
  {
   "id": 7,
   "name": "LongLake_10ftContours",
   "parentLayerId": -1,
   "defaultVisibility": true,
   "subLayerIds": null,
   "minScale": 24000,
   "maxScale": 0,
   "type": "Feature Layer",
   "geometryType": "esriGeometryPolyline"
  },
  {
   "id": 8,
   "name": "Mayfield_10ftContours",
   "parentLayerId": -1,
   "defaultVisibility": true,
   "subLayerIds": null,
   "minScale": 24000,
   "maxScale": 0,
   "type": "Feature Layer",
   "geometryType": "esriGeometryPolyline"
  },
  {
   "id": 9,
   "name": "Paradise_10ftContours",
   "parentLayerId": -1,
   "defaultVisibility": true,
   "subLayerIds": null,
   "minScale": 24000,
   "maxScale": 0,
   "type": "Feature Layer",
   "geometryType": "esriGeometryPolyline"
  },
  {
   "id": 10,
   "name": "Peninsula_10ftContours",
   "parentLayerId": -1,
   "defaultVisibility": true,
   "subLayerIds": null,
   "minScale": 24000,
   "maxScale": 0,
   "type": "Feature Layer",
   "geometryType": "esriGeometryPolyline"
  },
  {
   "id": 11,
   "name": "TraverseCity_10ftContours",
   "parentLayerId": -1,
   "defaultVisibility": true,
   "subLayerIds": null,
   "minScale": 24000,
   "maxScale": 0,
   "type": "Feature Layer",
   "geometryType": "esriGeometryPolyline"
  },
  {
   "id": 12,
   "name": "Union_10ftContours",
   "parentLayerId": -1,
   "defaultVisibility": true,
   "subLayerIds": null,
   "minScale": 24000,
   "maxScale": 0,
   "type": "Feature Layer",
   "geometryType": "esriGeometryPolyline"
  },
  {
   "id": 13,
   "name": "Whitewater_10ftContours",
   "parentLayerId": -1,
   "defaultVisibility": true,
   "subLayerIds": null,
   "minScale": 24000,
   "maxScale": 0,
   "type": "Feature Layer",
   "geometryType": "esriGeometryPolyline"
  },
  {
   "id": 14,
   "name": "VillageofKingsley_10ftContours",
   "parentLayerId": -1,
   "defaultVisibility": true,
   "subLayerIds": null,
   "minScale": 24000,
   "maxScale": 0,
   "type": "Feature Layer",
   "geometryType": "esriGeometryPolyline"
  },
  {
   "id": 15,
   "name": "VillageofFifeLake_10ftContours",
   "parentLayerId": -1,
   "defaultVisibility": true,
   "subLayerIds": null,
   "minScale": 24000,
   "maxScale": 0,
   "type": "Feature Layer",
   "geometryType": "esriGeometryPolyline"
  }
 ],
 "tables": [],
 "spatialReference": {
  "wkid": 2252,
  "latestWkid": 2252
 },
 "singleFusedMapCache": true,
 "tileInfo": {
  "rows": 256,
  "cols": 256,
  "dpi": 96,
  "format": "MIXED",
  "compressionQuality": 75,
  "origin": {
   "x": -99918900,
   "y": 1.4119729999999997E8
  },
  "spatialReference": {
   "wkid": 2252,
   "latestWkid": 2252
  },
  "lods": [
   {
    "level": 0,
    "resolution": 108.50716145876736,
    "scale": 125000
   },
   {
    "level": 1,
    "resolution": 54.25358072938368,
    "scale": 62500
   },
   {
    "level": 2,
    "resolution": 27.12679036469184,
    "scale": 31250
   },
   {
    "level": 3,
    "resolution": 13.56339518234592,
    "scale": 15625
   },
   {
    "level": 4,
    "resolution": 6.78169759117296,
    "scale": 7812.5
   },
   {
    "level": 5,
    "resolution": 3.39084879558648,
    "scale": 3906.25
   },
   {
    "level": 6,
    "resolution": 1.69542439779324,
    "scale": 1953.125
   },
   {
    "level": 7,
    "resolution": 0.84771219889662,
    "scale": 976.5625
   },
   {
    "level": 8,
    "resolution": 0.42385609944831,
    "scale": 488.28125
   }
  ]
 },
 "initialExtent": {
  "xmin": 1.9410347796404086E7,
  "ymin": 552638.5007586215,
  "xmax": 1.9411276615848534E7,
  "ymax": 553027.3896475105,
  "spatialReference": {
   "wkid": 2252,
   "latestWkid": 2252
  }
 },
 "fullExtent": {
  "xmin": 1.909398560220414E7,
  "ymin": 428636.5475557774,
  "xmax": 1.964684086006619E7,
  "ymax": 621424.5833497315,
  "spatialReference": {
   "wkid": 2252,
   "latestWkid": 2252
  }
 },
 "minScale": 7812.5,
 "maxScale": 976.5625,
 "minLOD": 4,
 "maxLOD": 7,
 "units": "esriFeet",
 "supportedImageFormatTypes": "PNG32,PNG24,PNG,JPG,DIB,TIFF,EMF,PS,PDF,GIF,SVG,SVGZ,BMP",
 "documentInfo": {
  "Title": "",
  "Author": "",
  "Comments": "10ft Contours Tile Cache",
  "Subject": "10ft Contours Tile Cache",
  "Category": "",
  "AntialiasingMode": "None",
  "TextAntialiasingMode": "Force",
  "Keywords": "Contours,Cache,10 ft"
 },
 "capabilities": "Map,Query,Data",
 "supportedQueryFormats": "JSON, geoJSON",
 "exportTilesAllowed": false,
 "referenceScale": 0,
 "supportsDatumTransformation": true,
 "maxRecordCount": 1000,
 "maxImageHeight": 4096,
 "maxImageWidth": 4096,
 "supportedExtensions": "",
 "serviceItemId": "c2b3bea1bfec4c938badb11da228f701"
}
