{
 "currentVersion": 10.91,
 "serviceDescription": "Grand Traverse SID Mosaic published as a Traditional Tile Cache.\n\nFor Energov\n\n04 22 2020",
 "mapName": "Layers",
 "description": "",
 "copyrightText": "LAU",
 "supportsDynamicLayers": true,
 "layers": [
  {
   "id": 0,
   "name": "Grand_Traverse_SID_Mosaic.sid",
   "parentLayerId": -1,
   "defaultVisibility": true,
   "subLayerIds": null,
   "minScale": 0,
   "maxScale": 0,
   "type": "Raster Layer"
  }
 ],
 "tables": [],
 "spatialReference": {
  "wkid": 2252,
  "latestWkid": 2252
 },
 "singleFusedMapCache": true,
 "tileInfo": {
  "rows": 256,
  "cols": 256,
  "dpi": 96,
  "format": "MIXED",
  "compressionQuality": 75,
  "origin": {
   "x": -99918900,
   "y": 1.4119729999999997E8
  },
  "spatialReference": {
   "wkid": 2252,
   "latestWkid": 2252
  },
  "lods": [
   {
    "level": 0,
    "resolution": 108.50716145876736,
    "scale": 125000
   },
   {
    "level": 1,
    "resolution": 54.25358072938368,
    "scale": 62500
   },
   {
    "level": 2,
    "resolution": 27.12679036469184,
    "scale": 31250
   },
   {
    "level": 3,
    "resolution": 13.56339518234592,
    "scale": 15625
   },
   {
    "level": 4,
    "resolution": 6.78169759117296,
    "scale": 7812.5
   },
   {
    "level": 5,
    "resolution": 3.39084879558648,
    "scale": 3906.25
   },
   {
    "level": 6,
    "resolution": 1.69542439779324,
    "scale": 1953.125
   },
   {
    "level": 7,
    "resolution": 0.84771219889662,
    "scale": 976.5625
   },
   {
    "level": 8,
    "resolution": 0.42385609944831,
    "scale": 488.28125
   }
  ]
 },
 "initialExtent": {
  "xmin": 1.9212026183644183E7,
  "ymin": 493609.75609756034,
  "xmax": 1.9532178263988517E7,
  "ymax": 620875.1793400287,
  "spatialReference": {
   "wkid": 2252,
   "latestWkid": 2252
  }
 },
 "fullExtent": {
  "xmin": 19305000,
  "ymin": 435000,
  "xmax": 19437500,
  "ymax": 615000,
  "spatialReference": {
   "wkid": 2252,
   "latestWkid": 2252
  }
 },
 "minScale": 125000,
 "maxScale": 488.28125,
 "minLOD": 0,
 "maxLOD": 8,
 "units": "esriFeet",
 "supportedImageFormatTypes": "PNG32,PNG24,PNG,JPG,DIB,TIFF,EMF,PS,PDF,GIF,SVG,SVGZ,BMP",
 "documentInfo": {
  "Title": "",
  "Author": "",
  "Comments": "Grand Traverse SID Mosaic published as a Traditional Tile Cache.\nFor Energov\n04 22 2020",
  "Subject": "Grand Traverse SID Mosaic published as a Traditional Tile Cache.\nFor Energov",
  "Category": "",
  "AntialiasingMode": "None",
  "TextAntialiasingMode": "Force",
  "Keywords": "Energov"
 },
 "capabilities": "Map,Query,Data",
 "supportedQueryFormats": "JSON, geoJSON",
 "exportTilesAllowed": false,
 "referenceScale": 0,
 "supportsDatumTransformation": true,
 "maxRecordCount": 1000,
 "maxImageHeight": 4096,
 "maxImageWidth": 4096,
 "supportedExtensions": "",
 "serviceItemId": "625bdadfcb3b44b29469efb008efc8d1"
}
